BEGIN:VCALENDAR
VERSION:2.0
PRODID:-//Hindu Cultural Society of Bradford - ECPv6.15.15//NONSGML v1.0//EN
CALSCALE:GREGORIAN
METHOD:PUBLISH
X-ORIGINAL-URL:https://www.bradfordmandir.org
X-WR-CALDESC:Events for Hindu Cultural Society of Bradford
REFRESH-INTERVAL;VALUE=DURATION:PT1H
X-Robots-Tag:noindex
X-PUBLISHED-TTL:PT1H
BEGIN:VTIMEZONE
TZID:Europe/London
BEGIN:DAYLIGHT
TZOFFSETFROM:+0000
TZOFFSETTO:+0100
TZNAME:BST
DTSTART:20250330T010000
END:DAYLIGHT
BEGIN:STANDARD
TZOFFSETFROM:+0100
TZOFFSETTO:+0000
TZNAME:GMT
DTSTART:20251026T010000
END:STANDARD
BEGIN:DAYLIGHT
TZOFFSETFROM:+0000
TZOFFSETTO:+0100
TZNAME:BST
DTSTART:20260329T010000
END:DAYLIGHT
BEGIN:STANDARD
TZOFFSETFROM:+0100
TZOFFSETTO:+0000
TZNAME:GMT
DTSTART:20261025T010000
END:STANDARD
BEGIN:DAYLIGHT
TZOFFSETFROM:+0000
TZOFFSETTO:+0100
TZNAME:BST
DTSTART:20270328T010000
END:DAYLIGHT
BEGIN:STANDARD
TZOFFSETFROM:+0100
TZOFFSETTO:+0000
TZNAME:GMT
DTSTART:20271031T010000
END:STANDARD
END:VTIMEZONE
BEGIN:VEVENT
DTSTART;TZID=Europe/London:20260510T160000
DTEND;TZID=Europe/London:20260510T183000
DTSTAMP:20260423T095220
CREATED:20260207T194130Z
LAST-MODIFIED:20260207T194130Z
UID:2456-1778428800-1778437800@www.bradfordmandir.org
SUMMARY:Bhajan Sankirtan
DESCRIPTION:
URL:https://www.bradfordmandir.org/event/bhajan-sankirtan-3/
END:VEVENT
BEGIN:VEVENT
DTSTART;TZID=Europe/London:20260517T160000
DTEND;TZID=Europe/London:20260517T183000
DTSTAMP:20260423T095220
CREATED:20260207T194130Z
LAST-MODIFIED:20260207T194130Z
UID:2457-1779033600-1779042600@www.bradfordmandir.org
SUMMARY:Bhajan Sankirtan
DESCRIPTION:
URL:https://www.bradfordmandir.org/event/bhajan-sankirtan-4/
END:VEVENT
BEGIN:VEVENT
DTSTART;TZID=Europe/London:20260529T160000
DTEND;TZID=Europe/London:20260529T183000
DTSTAMP:20260423T095220
CREATED:20260207T194130Z
LAST-MODIFIED:20260207T194130Z
UID:2458-1780070400-1780079400@www.bradfordmandir.org
SUMMARY:Narayan SEVA Sansthan
DESCRIPTION:
URL:https://www.bradfordmandir.org/event/narayan-seva-sansthan/
END:VEVENT
END:VCALENDAR