BEGIN:VCALENDAR
VERSION:2.0
PRODID:-//Hindu Cultural Society of Bradford - ECPv6.15.15//NONSGML v1.0//EN
CALSCALE:GREGORIAN
METHOD:PUBLISH
X-WR-CALNAME:Hindu Cultural Society of Bradford
X-ORIGINAL-URL:https://www.bradfordmandir.org
X-WR-CALDESC:Events for Hindu Cultural Society of Bradford
REFRESH-INTERVAL;VALUE=DURATION:PT1H
X-Robots-Tag:noindex
X-PUBLISHED-TTL:PT1H
BEGIN:VTIMEZONE
TZID:Europe/London
BEGIN:DAYLIGHT
TZOFFSETFROM:+0000
TZOFFSETTO:+0100
TZNAME:BST
DTSTART:20250330T010000
END:DAYLIGHT
BEGIN:STANDARD
TZOFFSETFROM:+0100
TZOFFSETTO:+0000
TZNAME:GMT
DTSTART:20251026T010000
END:STANDARD
BEGIN:DAYLIGHT
TZOFFSETFROM:+0000
TZOFFSETTO:+0100
TZNAME:BST
DTSTART:20260329T010000
END:DAYLIGHT
BEGIN:STANDARD
TZOFFSETFROM:+0100
TZOFFSETTO:+0000
TZNAME:GMT
DTSTART:20261025T010000
END:STANDARD
BEGIN:DAYLIGHT
TZOFFSETFROM:+0000
TZOFFSETTO:+0100
TZNAME:BST
DTSTART:20270328T010000
END:DAYLIGHT
BEGIN:STANDARD
TZOFFSETFROM:+0100
TZOFFSETTO:+0000
TZNAME:GMT
DTSTART:20271031T010000
END:STANDARD
END:VTIMEZONE
BEGIN:VEVENT
DTSTART;TZID=Europe/London:20260101T103000
DTEND;TZID=Europe/London:20260101T130000
DTSTAMP:20260423T124039
CREATED:20260104T222121Z
LAST-MODIFIED:20260207T191755Z
UID:2333-1767263400-1767272400@www.bradfordmandir.org
SUMMARY:New Year Pooja
DESCRIPTION:
URL:https://www.bradfordmandir.org/event/new-year-pooja/
END:VEVENT
BEGIN:VEVENT
DTSTART;TZID=Europe/London:20260103T093000
DTEND;TZID=Europe/London:20260103T130000
DTSTAMP:20260423T124039
CREATED:20260104T223059Z
LAST-MODIFIED:20260207T191755Z
UID:2353-1767432600-1767445200@www.bradfordmandir.org
SUMMARY:Balaji Abishkegam
DESCRIPTION:
URL:https://www.bradfordmandir.org/event/balaji-abishkegam-4/
END:VEVENT
BEGIN:VEVENT
DTSTART;TZID=Europe/London:20260104T160000
DTEND;TZID=Europe/London:20260104T183000
DTSTAMP:20260423T124039
CREATED:20260104T223059Z
LAST-MODIFIED:20260207T191755Z
UID:2354-1767542400-1767551400@www.bradfordmandir.org
SUMMARY:Sankirtan & Aarti
DESCRIPTION:
URL:https://www.bradfordmandir.org/event/sankirtan-aarti-5/
END:VEVENT
BEGIN:VEVENT
DTSTART;TZID=Europe/London:20260110T093000
DTEND;TZID=Europe/London:20260110T130000
DTSTAMP:20260423T124039
CREATED:20260104T223059Z
LAST-MODIFIED:20260207T191755Z
UID:2355-1768037400-1768050000@www.bradfordmandir.org
SUMMARY:Balaji Abishkegam
DESCRIPTION:
URL:https://www.bradfordmandir.org/event/balaji-abishkegam-5/
END:VEVENT
BEGIN:VEVENT
DTSTART;TZID=Europe/London:20260110T160000
DTEND;TZID=Europe/London:20260110T183000
DTSTAMP:20260423T124039
CREATED:20260104T223059Z
LAST-MODIFIED:20260207T191755Z
UID:2356-1768060800-1768069800@www.bradfordmandir.org
SUMMARY:Sankirtan & Aarti
DESCRIPTION:
URL:https://www.bradfordmandir.org/event/sankirtan-aarti-6/
END:VEVENT
BEGIN:VEVENT
DTSTART;TZID=Europe/London:20260111T160000
DTEND;TZID=Europe/London:20260111T183000
DTSTAMP:20260423T124039
CREATED:20260104T223102Z
LAST-MODIFIED:20260207T191757Z
UID:2357-1768147200-1768156200@www.bradfordmandir.org
SUMMARY:Mata Ki Chowki
DESCRIPTION:
URL:https://www.bradfordmandir.org/event/mata-ki-chowki-3/
END:VEVENT
BEGIN:VEVENT
DTSTART;TZID=Europe/London:20260118T153000
DTEND;TZID=Europe/London:20260118T183000
DTSTAMP:20260423T124039
CREATED:20260104T223103Z
LAST-MODIFIED:20260207T191757Z
UID:2358-1768750200-1768761000@www.bradfordmandir.org
SUMMARY:Sankirtan & Aarti
DESCRIPTION:
URL:https://www.bradfordmandir.org/event/sankirtan-aarti-7/
END:VEVENT
BEGIN:VEVENT
DTSTART;TZID=Europe/London:20260124T093000
DTEND;TZID=Europe/London:20260124T130000
DTSTAMP:20260423T124039
CREATED:20260104T223103Z
LAST-MODIFIED:20260207T191757Z
UID:2359-1769247000-1769259600@www.bradfordmandir.org
SUMMARY:Balaji Abishkegam
DESCRIPTION:
URL:https://www.bradfordmandir.org/event/balaji-abishkegam-6/
END:VEVENT
BEGIN:VEVENT
DTSTART;TZID=Europe/London:20260124T160000
DTEND;TZID=Europe/London:20260124T183000
DTSTAMP:20260423T124039
CREATED:20260104T223103Z
LAST-MODIFIED:20260207T191757Z
UID:2360-1769270400-1769279400@www.bradfordmandir.org
SUMMARY:Mata Ki Chowki
DESCRIPTION:
URL:https://www.bradfordmandir.org/event/mata-ki-chowki-4/
END:VEVENT
BEGIN:VEVENT
DTSTART;TZID=Europe/London:20260125T160000
DTEND;TZID=Europe/London:20260125T183000
DTSTAMP:20260423T124039
CREATED:20260104T223103Z
LAST-MODIFIED:20260207T191758Z
UID:2361-1769356800-1769365800@www.bradfordmandir.org
SUMMARY:Sankirtan & Aarti
DESCRIPTION:
URL:https://www.bradfordmandir.org/event/sankirtan-aarti-8/
END:VEVENT
END:VCALENDAR